BEGIN:VCALENDAR
VERSION:2.0
PRODID:-//wp-events-plugin.com//7.2.3.1//EN
BEGIN:VEVENT
UID:1063@storagenerds.com
DTSTART:20261013T160000Z
DTEND:20261013T180000Z
DTSTAMP:20260216T191234Z
URL:https://storagenerds.com/event/storagenerds-mastermind-coaching-3-2026
 -01-13-2026-02-10-2026-03-10-2026-04-14-2026-05-12-2026-06-09-2026-07-14-2
 026-08-11-2026-09-08-2026-10-13/
SUMMARY:Facility Owner Mastermind
DESCRIPTION:The joining link for the StorageNerds Facility Owner Mastermind
  Live Session will be sent into your registered email address and phone nu
 mber before the meeting start time.\nWho can come?\n\n- Academy Members wh
 o own storage facility\n- Legacy Members who own storage facility\n- Acqui
 sitions Members who own storage facility\n
END:VEVENT
END:VCALENDAR