BEGIN:VCALENDAR
VERSION:2.0
PRODID:-//wp-events-plugin.com//7.2.3.1//EN
BEGIN:VEVENT
UID:1010@storagenerds.com
DTSTART:20251111T190000Z
DTEND:20251111T200000Z
DTSTAMP:20251210T154542Z
URL:https://storagenerds.com/event/storagenerds-facility-owner-mastermind-
 live-session-2025-11-11/
SUMMARY:StorageNerds Facility Owner Mastermind Live Session
DESCRIPTION:Make sure you are in the Microsoft Teams StorageNerds Academy C
 ommunity so that you can attend the monthly facility owner masterminds. We
  meet in Teams. There is no link. Stacy will just start the session right 
 in the Academy channel.\nWho can come?\n\n- Academy Members who own storag
 e facility\n- Legacy Members who own storage facility\n- Acquisitions Memb
 ers who own storage facility\n
END:VEVENT
END:VCALENDAR