BEGIN:VCALENDAR
VERSION:2.0
PRODID:-//wp-events-plugin.com//7.2.3.1//EN
BEGIN:VEVENT
UID:1039@storagenerds.com
DTSTART:20260217T160000Z
DTEND:20260217T180000Z
DTSTAMP:20260206T124838Z
URL:https://storagenerds.com/event/live-monthly-group-coaching-session-2/
SUMMARY:Live Monthly Group Coaching Session
DESCRIPTION:Make sure you are in the Microsoft Teams StorageNerds Academy C
 ommunity so that you can attend the monthly live group coaching sessions. 
 We meet in Teams. There is no link. Stacy will just start the session righ
 t in the Academy channel.\n\nWho can come?\n\n- Academy Members\n- Legacy 
 Members\n- Acquisitions Members
END:VEVENT
END:VCALENDAR