BEGIN:VCALENDAR
VERSION:2.0
PRODID:-//wp-events-plugin.com//7.2.3.1//EN
BEGIN:VEVENT
UID:1047@storagenerds.com
DTSTART:20260721T160000Z
DTEND:20260721T180000Z
DTSTAMP:20260206T125118Z
URL:https://storagenerds.com/event/live-monthly-group-coaching-session-2-2
 026-01-20-2026-02-17-2026-03-17-2026-04-21-2026-05-19-2026-06-16-2026-07-2
 1/
SUMMARY:Live Monthly Group Coaching Session
DESCRIPTION:Make sure you are in the Microsoft Teams StorageNerds Academy C
 ommunity so that you can attend the monthly live group coaching sessions. 
 We meet in Teams. There is no link. Stacy will just start the session righ
 t in the Academy channel.\n\nWho can come?\n\n- Academy Members\n- Legacy 
 Members\n- Acquisitions Members
END:VEVENT
END:VCALENDAR