BEGIN:VCALENDAR
VERSION:2.0
PRODID:-//wp-events-plugin.com//7.2.3.1//EN
BEGIN:VEVENT
UID:974@storagenerds.com
DTSTART:20240323T140000Z
DTEND:20240323T220000Z
DTSTAMP:20240220T122744Z
URL:https://storagenerds.com/event/in-field-training-day/
SUMMARY:In-Field Training Day
DESCRIPTION:\nIn-Field Training Day (March 23rd\, 2024)\nAtlanta on Saturda
 y\, March 23rd from 9am to 5pm EST.\n\n\nRegister Here : In-Field Training
  Day
END:VEVENT
END:VCALENDAR